BEGIN:VCALENDAR
VERSION:2.0
PRODID:-//ChamberMaster//Event Calendar 2.0//EN
METHOD:PUBLISH
X-PUBLISHED-TTL:P3D
REFRESH-INTERVAL:P3D
CALSCALE:GREGORIAN
BEGIN:VEVENT
DTSTART:20260429T120000Z
DTEND:20260429T163000Z
X-MICROSOFT-CDO-ALLDAYEVENT:FALSE
SUMMARY:Builders Day at the Capitol
DESCRIPTION:BIA Members will head to Gallivan White & Boyd to hear from a number of speakers and then head to the State House to speak with legislators the day after the Bird Supper. \n\n\n\n8:00 a.m.- 12:30 p.m.\nTentative Schedule: TIMES AND SPEAKERS MAY SHIFT\n\n8:00am to 8:30am   Director Myra Reece with S.C. Department of Environmental Services (DES)\n\n8:30am to 8:45am   SC Attorney General Alan Wilson (SCAG)\n\n8:45am to 9:30am   Justin Powell and Allen Hutto with the S.C. Department of Transportation (SCDOT)\n\n9:30am to 10:00am   Molly Price with S.C. Labor\, Licensing and Regulation (LLR)\n\n10:00am to 10:45am   Russ Dubisky with the S.C. Coalition for Lawsuit Reform\n\n10:45am to 11:30pm   Ron Tate and Taylor Stairs\n\n11:30pm to 12:30pm   Mark Nix   Summary of 2026 Legislative Session\n\n\n\n\n ~~ Visit Capitol building and speak with elected officials ~~\n\n\n\nPlease register on-line in advance if you plan to attend.\n\nContact Alex James at the BIA Office if you have any questions.
X-ALT-DESC;FMTTYPE=text/html:BIA Members will head to Gallivan White &amp\; Boyd to hear from a number of speakers and then head to the State House to speak with legislators the day after the Bird Supper.&nbsp\;<br />\n<br />\n<strong>8:00 a.m.- 12:30 p.m.</strong>\n<p class="x_MsoNormal" style="margin: 0in\; font-size: 12pt\; font-family: Aptos\; color: rgb(36\, 36\, 36)\;"><b><span data-olk-copy-source="MessageBody" style="border: 0px\; font-style: inherit\; font-variant: inherit\; font-weight: inherit\; font-stretch: inherit\; font-size: 11pt\; line-height: inherit\; font-family: inherit\; font-optical-sizing: inherit\; font-size-adjust: inherit\; font-kerning: inherit\; font-feature-settings: inherit\; font-variation-settings: inherit\; font-language-override: inherit\; margin: 0px\; padding: 0px\; vertical-align: baseline\; color: inherit\;">Tentative Schedule: TIMES AND SPEAKERS MAY SHIFT</span></b></p>\n\n<p class="x_MsoNormal" style="margin: 0in\; font-size: 12pt\; font-family: Aptos\; color: rgb(36\, 36\, 36)\;"><span style="border: 0px\; font-style: inherit\; font-variant: inherit\; font-weight: inherit\; font-stretch: inherit\; font-size: 11pt\; line-height: inherit\; font-family: inherit\; font-optical-sizing: inherit\; font-size-adjust: inherit\; font-kerning: inherit\; font-feature-settings: inherit\; font-variation-settings: inherit\; font-language-override: inherit\; margin: 0px\; padding: 0px\; vertical-align: baseline\; color: inherit\;">8:00am to 8:30am &ndash\; Director Myra Reece with S.C. Department of Environmental Services (DES)</span></p>\n\n<p class="x_MsoNormal" style="margin: 0in\; font-size: 12pt\; font-family: Aptos\; color: rgb(36\, 36\, 36)\;"><span style="border: 0px\; font-style: inherit\; font-variant: inherit\; font-weight: inherit\; font-stretch: inherit\; font-size: 11pt\; line-height: inherit\; font-family: inherit\; font-optical-sizing: inherit\; font-size-adjust: inherit\; font-kerning: inherit\; font-feature-settings: inherit\; font-variation-settings: inherit\; font-language-override: inherit\; margin: 0px\; padding: 0px\; vertical-align: baseline\; color: inherit\;">8:30am to 8:45am &ndash\; SC Attorney General Alan Wilson (SCAG)</span></p>\n\n<p class="x_MsoNormal" style="margin: 0in\; font-size: 12pt\; font-family: Aptos\; color: rgb(36\, 36\, 36)\;"><span style="border: 0px\; font-style: inherit\; font-variant: inherit\; font-weight: inherit\; font-stretch: inherit\; font-size: 11pt\; line-height: inherit\; font-family: inherit\; font-optical-sizing: inherit\; font-size-adjust: inherit\; font-kerning: inherit\; font-feature-settings: inherit\; font-variation-settings: inherit\; font-language-override: inherit\; margin: 0px\; padding: 0px\; vertical-align: baseline\; color: inherit\;">8:45am to 9:30am &ndash\; Justin Powell and Allen Hutto with the S.C. Department of Transportation (SCDOT)</span></p>\n\n<p class="x_MsoNormal" style="margin: 0in\; font-size: 12pt\; font-family: Aptos\; color: rgb(36\, 36\, 36)\;"><span style="border: 0px\; font-style: inherit\; font-variant: inherit\; font-weight: inherit\; font-stretch: inherit\; font-size: 11pt\; line-height: inherit\; font-family: inherit\; font-optical-sizing: inherit\; font-size-adjust: inherit\; font-kerning: inherit\; font-feature-settings: inherit\; font-variation-settings: inherit\; font-language-override: inherit\; margin: 0px\; padding: 0px\; vertical-align: baseline\; color: inherit\;">9:30am to 10:00am &ndash\; Molly Price with S.C. Labor\, Licensing and Regulation (LLR)</span></p>\n\n<p class="x_MsoNormal" style="margin: 0in\; font-size: 12pt\; font-family: Aptos\; color: rgb(36\, 36\, 36)\;"><span style="border: 0px\; font-style: inherit\; font-variant: inherit\; font-weight: inherit\; font-stretch: inherit\; font-size: 11pt\; line-height: inherit\; font-family: inherit\; font-optical-sizing: inherit\; font-size-adjust: inherit\; font-kerning: inherit\; font-feature-settings: inherit\; font-variation-settings: inherit\; font-language-override: inherit\; margin: 0px\; padding: 0px\; vertical-align: baseline\; color: inherit\;">10:00am to 10:45am &ndash\; Russ Dubisky with the S.C. Coalition for Lawsuit Reform</span></p>\n\n<p class="x_MsoNormal" style="margin: 0in\; font-size: 12pt\; font-family: Aptos\; color: rgb(36\, 36\, 36)\;"><span style="border: 0px\; font-style: inherit\; font-variant: inherit\; font-weight: inherit\; font-stretch: inherit\; font-size: 11pt\; line-height: inherit\; font-family: inherit\; font-optical-sizing: inherit\; font-size-adjust: inherit\; font-kerning: inherit\; font-feature-settings: inherit\; font-variation-settings: inherit\; font-language-override: inherit\; margin: 0px\; padding: 0px\; vertical-align: baseline\; color: inherit\;">10:45am to 11:30pm &ndash\; Ron Tate and Taylor Stairs</span></p>\n\n<p class="x_MsoNormal" style="margin: 0in\; font-size: 12pt\; font-family: Aptos\; color: rgb(36\, 36\, 36)\;"><span style="border: 0px\; font-style: inherit\; font-variant: inherit\; font-weight: inherit\; font-stretch: inherit\; font-size: 11pt\; line-height: inherit\; font-family: inherit\; font-optical-sizing: inherit\; font-size-adjust: inherit\; font-kerning: inherit\; font-feature-settings: inherit\; font-variation-settings: inherit\; font-language-override: inherit\; margin: 0px\; padding: 0px\; vertical-align: baseline\; color: inherit\;">11:30pm to 12:30pm &ndash\; Mark Nix &ndash\; Summary of 2026 Legislative Session</span></p>\n<br />\n<br />\n&nbsp\;~~ Visit Capitol building and speak with elected officials ~~<br />\n<br />\n<em>Please register on-line in advance if you plan to attend.<br />\nContact Alex James at the BIA Office if you have any questions.</em>
LOCATION:Gallivan White & Boyd\, 1201 Main Street Suite 1200\, Columbia\, SC 29201 Parking is available in the garage off of Lady Street. Validation is available. The State House is located at 1100 Gervais Street\, which is at the intersection of Gervais and Main Streets\, Columbia\, South Carolina.
UID:e.9591.21906
SEQUENCE:3
DTSTAMP:20260423T233217Z
URL:http://business.biaofcentralsc.com/events/details/builders-day-at-the-capitol-21906
END:VEVENT

END:VCALENDAR
