BEGIN:VCALENDAR
VERSION:2.0
PRODID:-//ChamberMaster//Event Calendar 2.0//EN
METHOD:PUBLISH
X-PUBLISHED-TTL:P3D
REFRESH-INTERVAL:P3D
CALSCALE:GREGORIAN
BEGIN:VEVENT
DTSTART:20260502T120000Z
DTEND:20260502T180000Z
X-MICROSOFT-CDO-ALLDAYEVENT:FALSE
SUMMARY:Side Walk Sale
DESCRIPTION:https://chambermaster.blob.core.windows.net/userfiles/UserFiles/chambers/9591/File/doc00004420260422094727.pdf
X-ALT-DESC;FMTTYPE=text/html:<a href="https://chambermaster.blob.core.windows.net/userfiles/UserFiles/chambers/9591/File/doc00004420260422094727.pdf">https://chambermaster.blob.core.windows.net/userfiles/UserFiles/chambers/9591/File/doc00004420260422094727.pdf</a>
LOCATION:1327 Broad River Rd\, Columbia\, SC 29210
UID:e.9591.21905
SEQUENCE:3
DTSTAMP:20260422T175304Z
URL:http://business.biaofcentralsc.com/events/details/side-walk-sale-21905
END:VEVENT

END:VCALENDAR
